BEGIN:VCALENDAR
VERSION:2.0
PRODID:-//Core Mine - ECPv6.15.18//NONSGML v1.0//EN
CALSCALE:GREGORIAN
METHOD:PUBLISH
X-WR-CALNAME:Core Mine
X-ORIGINAL-URL:https://www.coremine.com.au
X-WR-CALDESC:Events for Core Mine
REFRESH-INTERVAL;VALUE=DURATION:PT1H
X-Robots-Tag:noindex
X-PUBLISHED-TTL:PT1H
BEGIN:VTIMEZONE
TZID:Australia/Sydney
BEGIN:STANDARD
TZOFFSETFROM:+1100
TZOFFSETTO:+1000
TZNAME:AEST
DTSTART:20250405T160000
END:STANDARD
BEGIN:DAYLIGHT
TZOFFSETFROM:+1000
TZOFFSETTO:+1100
TZNAME:AEDT
DTSTART:20251004T160000
END:DAYLIGHT
BEGIN:STANDARD
TZOFFSETFROM:+1100
TZOFFSETTO:+1000
TZNAME:AEST
DTSTART:20260404T160000
END:STANDARD
BEGIN:DAYLIGHT
TZOFFSETFROM:+1000
TZOFFSETTO:+1100
TZNAME:AEDT
DTSTART:20261003T160000
END:DAYLIGHT
BEGIN:STANDARD
TZOFFSETFROM:+1100
TZOFFSETTO:+1000
TZNAME:AEST
DTSTART:20270403T160000
END:STANDARD
BEGIN:DAYLIGHT
TZOFFSETFROM:+1000
TZOFFSETTO:+1100
TZNAME:AEDT
DTSTART:20271002T160000
END:DAYLIGHT
END:VTIMEZONE
BEGIN:VEVENT
DTSTART;TZID=Australia/Sydney:20260428T080000
DTEND;TZID=Australia/Sydney:20260428T120000
DTSTAMP:20260423T020041
CREATED:20250320T232242Z
LAST-MODIFIED:20260127T000035Z
UID:6414-1777363200-1777377600@www.coremine.com.au
SUMMARY:MOC Course: Risk Management & Inspection Systems (Online)
DESCRIPTION:Our Risk Management & Inspection Systems course is 3.5 hours of formal training. We will cover: \n– Fundamental risk management processes including WRAC & Bow tie methodology\n– Legislative requirements associated with risk management\n– Practical considerations for inspecting an open cut mining environment\n– Legislative requirements for the conduct of mining workplace inspections \nWhilst this is specifically for open cut applications\, there is substantial cross over to the underground statutory functions. \nAttendees will receive a minimum of 3.5hours of formal training that will go towards their Maintenance of Competence for their NSW Practicing Certificate (accompanied by a certificate of completion). \nThis event will be held online via MS Teams.
URL:https://www.coremine.com.au/course/moc-course-risk-management-inspection-systems-3/
LOCATION:Online\, Australia
CATEGORIES:Short Course
ATTACH;FMTTYPE=image/jpeg:https://www.coremine.com.au/app/uploads/2023/01/Trybooking-SC02-Risk-Mgt-Inspections.jpg
ORGANIZER;CN="Core Mine Pty Ltd":MAILTO:info@coremine.com.au
END:VEVENT
BEGIN:VEVENT
DTSTART;TZID=Australia/Sydney:20260519T080000
DTEND;TZID=Australia/Sydney:20260519T120000
DTSTAMP:20260423T020041
CREATED:20240102T012343Z
LAST-MODIFIED:20251125T015741Z
UID:5007-1779177600-1779192000@www.coremine.com.au
SUMMARY:MOC Course: Spon Com\, Reactive Ground\, UG Workings (Online)
DESCRIPTION:Our Spon com\, reactive ground and UG Workings course is 3.5 hours of formal training. We will cover:\n– Hazards and controls across those 3 hazards\n– Legislative requirements associated with risk management\n– Practical considerations for these hazards on an open cut mining environment\n– Mitigation efforts to reduce the impacts of these hazards \nAttendees will receive a minimum of 3.5hours of formal training that will go towards their Maintenance of Competence for their NSW Practicing Certificate (accompanied by a certificate of completion). \nThis event will be held online via MS Teams.
URL:https://www.coremine.com.au/course/moc-course-spon-com-reactive-ground-ug-workings-online-2/
LOCATION:Online\, Australia
CATEGORIES:Short Course
ATTACH;FMTTYPE=image/png:https://www.coremine.com.au/app/uploads/2024/01/HUMANITIX-Spon-Com-UG-Reactive.png
ORGANIZER;CN="Core Mine Pty Ltd":MAILTO:info@coremine.com.au
END:VEVENT
BEGIN:VEVENT
DTSTART;TZID=Australia/Sydney:20260611T080000
DTEND;TZID=Australia/Sydney:20260611T120000
DTSTAMP:20260423T020041
CREATED:20250321T005354Z
LAST-MODIFIED:20251216T002012Z
UID:6425-1781164800-1781179200@www.coremine.com.au
SUMMARY:MOC Course: Tailings Storage Facilities
DESCRIPTION:Our Tailings Storage Facilities course is 3.5 hours of formal training. We will cover: \n– Legislative requirements for TSFs and Dams in accordance with Dam Safety NSW\n– Life cycle of TSFs\n– Key risks associated with TSFs\n– Case studies \nAttendees will receive a minimum of 3.5hours of formal training that will go towards their Maintenance of Competence for their NSW Practicing Certificate (accompanied by a certificate of completion). \nThis event will be held in person and online (via MS Teams).
URL:https://www.coremine.com.au/course/moc-course-tailings-storage-facilities-2/
LOCATION:Core Mine Offices\, Suite 4\, 126 John Street\, Singleton\, NSW\, 2330\, Australia
CATEGORIES:Short Course
ATTACH;FMTTYPE=image/png:https://www.coremine.com.au/app/uploads/2025/03/HUMANITIX-Tailings-Storage-Facilities.png
ORGANIZER;CN="Core Mine Pty Ltd":MAILTO:info@coremine.com.au
END:VEVENT
BEGIN:VEVENT
DTSTART;TZID=Australia/Sydney:20260702T080000
DTEND;TZID=Australia/Sydney:20260702T120000
DTSTAMP:20260423T020041
CREATED:20260302T023328Z
LAST-MODIFIED:20260302T023328Z
UID:6726-1782979200-1782993600@www.coremine.com.au
SUMMARY:MOC Course: PHMP\, PCP\, Incident Management
DESCRIPTION:Our PHMP\, PCP & Incident Management course is 4 hours of formal training. We will cover: \n– Principal hazards that apply to mining \n– Requirements in preparation of PHMPs \n– Principal controls \n– Practical applications of PHMP & PCP Reviews \nAttendees will receive a minimum of 3.5hours of formal training that will go towards their Maintenance of Competence for their NSW Practicing Certificate (accompanied by a certificate of completion). \nThis event will be held in person and online via MS Teams.
URL:https://www.coremine.com.au/course/moc-course-phmp-pcp-incident-management-2/
LOCATION:Core Mine Offices\, Suite 4\, 126 John Street\, Singleton\, NSW\, 2330\, Australia
CATEGORIES:Short Course
ATTACH;FMTTYPE=image/png:https://www.coremine.com.au/app/uploads/2025/03/HUMANITIX-PHMP-PCP-Incident-Mgmt.png
ORGANIZER;CN="Core Mine Pty Ltd":MAILTO:info@coremine.com.au
END:VEVENT
BEGIN:VEVENT
DTSTART;TZID=Australia/Sydney:20260723T080000
DTEND;TZID=Australia/Sydney:20260723T120000
DTSTAMP:20260423T020041
CREATED:20260302T013738Z
LAST-MODIFIED:20260302T014037Z
UID:6724-1784793600-1784808000@www.coremine.com.au
SUMMARY:MOC Course: Mining Legislation Overview
DESCRIPTION:Our Legislation Overview course is 3.5 hours of formal training on NSW mining legislation. We will cover: \n– Maintenance of Competence system\, explained\n– key parts of the WHS Act/Regs\, and WHS (Mines & Petroleum Sites) Act/Regs\n– key changes introduced by the WHS (Mines & Petroleum Sites) Regulation 2022 \nWe focus on parts of the legislation that is commonly confused or misunderstood\, as well as the legislation that underpins our mining operations in NSW. \nWhilst this is specifically for open cut applications\, there is substantial cross over to the underground statutory functions. \nAttendees will receive a minimum of 3.5hours of formal training that will go towards their Maintenance of Competence for their NSW Practicing Certificate (accompanied by a certificate of completion). \nThis event will be held in person and online (via MS Teams)
URL:https://www.coremine.com.au/course/moc-course-mining-legislation-overview-4/
LOCATION:Core Mine Offices\, Suite 4\, 126 John Street\, Singleton\, NSW\, 2330\, Australia
CATEGORIES:Short Course
ATTACH;FMTTYPE=image/png:https://www.coremine.com.au/app/uploads/2025/03/HUMANITIX-Legislation-Overview.png
ORGANIZER;CN="Core Mine Pty Ltd":MAILTO:info@coremine.com.au
END:VEVENT
BEGIN:VEVENT
DTSTART;TZID=Australia/Sydney:20260922T080000
DTEND;TZID=Australia/Sydney:20260922T120000
DTSTAMP:20260423T020041
CREATED:20240412T041550Z
LAST-MODIFIED:20260302T030143Z
UID:5138-1790064000-1790078400@www.coremine.com.au
SUMMARY:MOC Course: Tailings Storage Facilities
DESCRIPTION:Our Tailings Storage Facilities course is 3.5 hours of formal training. We will cover: \n– Legislative requirements for TSFs and Dams in accordance with Dam Safety NSW\n– Best practice for dam owners\n– Life cycle of TSFs\n– Key risks associated with TSFs\n– Case studies \nAttendees will receive a minimum of 3.5hours of formal training that will go towards their Maintenance of Competence for their NSW Practicing Certificate (accompanied by a certificate of completion). \nThis event will be held in person and online (via MS Teams).
URL:https://www.coremine.com.au/course/moc-course-tailings-storage-facilities/
LOCATION:Core Mine Offices\, Suite 4\, 126 John Street\, Singleton\, NSW\, 2330\, Australia
CATEGORIES:Short Course
ATTACH;FMTTYPE=image/png:https://www.coremine.com.au/app/uploads/2024/04/Trybooking-Tailings-Storage-Facilities.png
ORGANIZER;CN="Core Mine Pty Ltd":MAILTO:info@coremine.com.au
END:VEVENT
BEGIN:VEVENT
DTSTART;TZID=Australia/Sydney:20261013T080000
DTEND;TZID=Australia/Sydney:20261013T120000
DTSTAMP:20260423T020041
CREATED:20260302T031251Z
LAST-MODIFIED:20260302T031357Z
UID:6735-1791878400-1791892800@www.coremine.com.au
SUMMARY:MOC Course: Risk Management & Inspection Systems
DESCRIPTION:Our Risk Management & Inspection Systems course is 3.5 hours of formal training. We will cover: \n– Fundamental risk management processes including WRAC & Bow tie methodology\n– Legislative requirements associated with risk management\n– Practical considerations for inspecting an open cut mining environment\n– Legislative requirements for the conduct of mining workplace inspections \nWhilst this is specifically for open cut applications\, there is substantial cross over to the underground statutory functions. \nAttendees will receive a minimum of 3.5hours of formal training that will go towards their Maintenance of Competence for their NSW Practicing Certificate (accompanied by a certificate of completion). \nThis event will be held in person and online via MS Teams.
URL:https://www.coremine.com.au/course/moc-course-risk-management-inspection-systems-4/
LOCATION:Core Mine Offices\, Suite 4\, 126 John Street\, Singleton\, NSW\, 2330\, Australia
CATEGORIES:Short Course
ATTACH;FMTTYPE=image/jpeg:https://www.coremine.com.au/app/uploads/2023/01/Trybooking-SC02-Risk-Mgt-Inspections.jpg
ORGANIZER;CN="Core Mine Pty Ltd":MAILTO:info@coremine.com.au
END:VEVENT
BEGIN:VEVENT
DTSTART;TZID=Australia/Sydney:20261029T080000
DTEND;TZID=Australia/Sydney:20261029T120000
DTSTAMP:20260423T020041
CREATED:20260302T032238Z
LAST-MODIFIED:20260302T032238Z
UID:6738-1793260800-1793275200@www.coremine.com.au
SUMMARY:MOC Course: Ground & Strata/Tyre & Rims
DESCRIPTION:Our Ground & Strata / Tyre & Rim course is 4 hours of formal training. We will cover: \n– Fundamental concepts of geotechnical design\n– Key terminology\n– Practical considerations for geotechnical & geological considerations\n– Legislative requirements for the conduct of geotechnical hazards in mining\n– Key hazards & controls associated with tyre & rim management\n– Principles of tyre types\n– Case study on tyre incidents \nAttendees will receive a minimum of 4hours of formal training that will go towards their Maintenance of Competence for their NSW Practicing Certificate (accompanied by a certificate of completion). \nThis event will be held in person and online via MS Teams.
URL:https://www.coremine.com.au/course/moc-course-ground-strata-tyre-rims/
LOCATION:Core Mine Offices\, Suite 4\, 126 John Street\, Singleton\, NSW\, 2330\, Australia
CATEGORIES:Short Course
ATTACH;FMTTYPE=image/png:https://www.coremine.com.au/app/uploads/2024/01/HUMANITIX-Ground-Strata-Tyre-Rims.png
ORGANIZER;CN="Core Mine Pty Ltd":MAILTO:info@coremine.com.au
END:VEVENT
BEGIN:VEVENT
DTSTART;TZID=Australia/Sydney:20261126T080000
DTEND;TZID=Australia/Sydney:20261126T120000
DTSTAMP:20260423T020041
CREATED:20260302T033933Z
LAST-MODIFIED:20260302T033933Z
UID:6741-1795680000-1795694400@www.coremine.com.au
SUMMARY:MOC Course: Shotfiring
DESCRIPTION:Our Shotfiring course covers: \n– Fundamental blasting methods in mining\n– Key terminology\n– Practical considerations for shotfiring operations\n– Legislative requirements for the conduct of shotfiring in mining \nWhilst this is specifically for open cut applications\, there is substantial cross over to the underground statutory functions. \nAttendees will receive a minimum of 4 hours of formal training that will go towards their Maintenance of Competence for their NSW Practicing Certificate (accompanied by a certificate of completion). \nThis event will be held in person and online via MS Teams.
URL:https://www.coremine.com.au/course/moc-course-shotfiring-6/
LOCATION:Core Mine Offices\, Suite 4\, 126 John Street\, Singleton\, NSW\, 2330\, Australia
CATEGORIES:Short Course
ATTACH;FMTTYPE=image/png:https://www.coremine.com.au/app/uploads/2025/11/HUMANITIX-Shotfiring.png
ORGANIZER;CN="Core Mine Pty Ltd":MAILTO:info@coremine.com.au
END:VEVENT
BEGIN:VEVENT
DTSTART;TZID=Australia/Sydney:20261215T080000
DTEND;TZID=Australia/Sydney:20261215T120000
DTSTAMP:20260423T020041
CREATED:20260302T035940Z
LAST-MODIFIED:20260302T035940Z
UID:6748-1797321600-1797336000@www.coremine.com.au
SUMMARY:MOC Course: Environmental Management
DESCRIPTION:Our Environmental Management Course is 3.5 hours of formal training. We will cover: \n– Applicable environmental legislation\n– Practical application of environmental considerations\n– Pollution Incident Management Plan\n– Environmental Incidents \nWhilst this is specifically for open cut applications\, there is substantial cross over to the underground statutory functions. \nAttendees will receive a minimum of 3.5 hours of formal training that will go towards their Maintenance of Competence for their NSW Practicing Certificate (accompanied by a certificate of completion). \nThis event will be held in person and online via MS Teams.
URL:https://www.coremine.com.au/course/moc-course-environmental-management-3/
LOCATION:Core Mine Offices\, Suite 4\, 126 John Street\, Singleton\, NSW\, 2330\, Australia
CATEGORIES:Short Course
ATTACH;FMTTYPE=image/png:https://www.coremine.com.au/app/uploads/2025/11/Environmental-Management-HUMANITIX.png
ORGANIZER;CN="Core Mine Pty Ltd":MAILTO:info@coremine.com.au
END:VEVENT
END:VCALENDAR