BEGIN:VCALENDAR
VERSION:2.0
PRODID:-//Core Mine - ECPv6.15.18//NONSGML v1.0//EN
CALSCALE:GREGORIAN
METHOD:PUBLISH
X-ORIGINAL-URL:https://www.coremine.com.au
X-WR-CALDESC:Events for Core Mine
REFRESH-INTERVAL;VALUE=DURATION:PT1H
X-Robots-Tag:noindex
X-PUBLISHED-TTL:PT1H
BEGIN:VTIMEZONE
TZID:Australia/Sydney
BEGIN:STANDARD
TZOFFSETFROM:+1100
TZOFFSETTO:+1000
TZNAME:AEST
DTSTART:20200404T160000
END:STANDARD
BEGIN:DAYLIGHT
TZOFFSETFROM:+1000
TZOFFSETTO:+1100
TZNAME:AEDT
DTSTART:20201003T160000
END:DAYLIGHT
BEGIN:STANDARD
TZOFFSETFROM:+1100
TZOFFSETTO:+1000
TZNAME:AEST
DTSTART:20210403T160000
END:STANDARD
BEGIN:DAYLIGHT
TZOFFSETFROM:+1000
TZOFFSETTO:+1100
TZNAME:AEDT
DTSTART:20211002T160000
END:DAYLIGHT
BEGIN:STANDARD
TZOFFSETFROM:+1100
TZOFFSETTO:+1000
TZNAME:AEST
DTSTART:20220402T160000
END:STANDARD
BEGIN:DAYLIGHT
TZOFFSETFROM:+1000
TZOFFSETTO:+1100
TZNAME:AEDT
DTSTART:20221001T160000
END:DAYLIGHT
BEGIN:STANDARD
TZOFFSETFROM:+1100
TZOFFSETTO:+1000
TZNAME:AEST
DTSTART:20230401T160000
END:STANDARD
BEGIN:DAYLIGHT
TZOFFSETFROM:+1000
TZOFFSETTO:+1100
TZNAME:AEDT
DTSTART:20230930T160000
END:DAYLIGHT
BEGIN:STANDARD
TZOFFSETFROM:+1100
TZOFFSETTO:+1000
TZNAME:AEST
DTSTART:20240406T160000
END:STANDARD
BEGIN:DAYLIGHT
TZOFFSETFROM:+1000
TZOFFSETTO:+1100
TZNAME:AEDT
DTSTART:20241005T160000
END:DAYLIGHT
BEGIN:STANDARD
TZOFFSETFROM:+1100
TZOFFSETTO:+1000
TZNAME:AEST
DTSTART:20250405T160000
END:STANDARD
BEGIN:DAYLIGHT
TZOFFSETFROM:+1000
TZOFFSETTO:+1100
TZNAME:AEDT
DTSTART:20251004T160000
END:DAYLIGHT
BEGIN:STANDARD
TZOFFSETFROM:+1100
TZOFFSETTO:+1000
TZNAME:AEST
DTSTART:20260404T160000
END:STANDARD
BEGIN:DAYLIGHT
TZOFFSETFROM:+1000
TZOFFSETTO:+1100
TZNAME:AEDT
DTSTART:20261003T160000
END:DAYLIGHT
BEGIN:STANDARD
TZOFFSETFROM:+1100
TZOFFSETTO:+1000
TZNAME:AEST
DTSTART:20270403T160000
END:STANDARD
BEGIN:DAYLIGHT
TZOFFSETFROM:+1000
TZOFFSETTO:+1100
TZNAME:AEDT
DTSTART:20271002T160000
END:DAYLIGHT
END:VTIMEZONE
BEGIN:VEVENT
DTSTART;TZID=Australia/Sydney:20260414T080000
DTEND;TZID=Australia/Sydney:20260414T120000
DTSTAMP:20260422T234126
CREATED:20240102T002930Z
LAST-MODIFIED:20251124T234059Z
UID:5000-1776153600-1776168000@www.coremine.com.au
SUMMARY:MOC Course: Ground & Strata/Tyre & Rims (Online)
DESCRIPTION:Our Ground & Strata / Tyre & Rim course is 4 hours of formal training. We will cover: \n– Fundamental concepts of geotechnical design\n– Key terminology\n– Practical considerations for geotechnical & geological considerations\n– Legislative requirements for the conduct of geotechnical hazards in mining\n– Key hazards & controls associated with tyre & rim management\n– Principles of tyre types\n– Case study on tyre incidents \nAttendees will receive a minimum of 4hours of formal training that will go towards their Maintenance of Competence for their NSW Practicing Certificate (accompanied by a certificate of completion). \nThis event will be held online via MS Teams.
URL:https://www.coremine.com.au/course/moc-course-ground-strata-tyre-rims-online-only/
LOCATION:Online\, Australia
CATEGORIES:Short Course
ATTACH;FMTTYPE=image/png:https://www.coremine.com.au/app/uploads/2024/01/HUMANITIX-Ground-Strata-Tyre-Rims.png
ORGANIZER;CN="Core Mine Pty Ltd":MAILTO:info@coremine.com.au
END:VEVENT
BEGIN:VEVENT
DTSTART;TZID=Australia/Sydney:20260324T080000
DTEND;TZID=Australia/Sydney:20260324T120000
DTSTAMP:20260422T234126
CREATED:20251125T000631Z
LAST-MODIFIED:20260126T235553Z
UID:6619-1774339200-1774353600@www.coremine.com.au
SUMMARY:MOC Course: Environmental Management (Online)
DESCRIPTION:Our Environmental Management Course is 3.5 hours of formal training. We will cover: \n– Applicable environmental legislation\n– Practical application of environmental considerations\n– Pollution Incident Management Plan\n– Environmental Incidents \nWhilst this is specifically for open cut applications\, there is substantial cross over to the underground statutory functions. \nAttendees will receive a minimum of 3.5 hours of formal training that will go towards their Maintenance of Competence for their NSW Practicing Certificate (accompanied by a certificate of completion). \nThis event will be held online via MS Teams.
URL:https://www.coremine.com.au/course/moc-course-environmental-management-online/
LOCATION:Online\, Australia
CATEGORIES:Short Course
ATTACH;FMTTYPE=image/png:https://www.coremine.com.au/app/uploads/2025/11/Environmental-Management-HUMANITIX.png
ORGANIZER;CN="Core Mine Pty Ltd":MAILTO:info@coremine.com.au
END:VEVENT
BEGIN:VEVENT
DTSTART;TZID=Australia/Sydney:20260217T080000
DTEND;TZID=Australia/Sydney:20260217T120000
DTSTAMP:20260422T234126
CREATED:20250320T232838Z
LAST-MODIFIED:20251121T034007Z
UID:6416-1771315200-1771329600@www.coremine.com.au
SUMMARY:MOC Course: PHMP\, PCP\, Incident Management (Online)
DESCRIPTION:Our PHMP\, PCP & Incident Management course is 4 hours of formal training. We will cover: \n– Principal hazards that apply to mining\n– Requirements in preparation of PHMPs\n– Principal controls\n– Practical applications of PHMP & PCP Reviews \nAttendees will receive a minimum of 3.5hours of formal training that will go towards their Maintenance of Competence for their NSW Practicing Certificate (accompanied by a certificate of completion). \nThis event will be held online via MS Teams.
URL:https://www.coremine.com.au/course/moc-course-phmp-pcp-incident-management/
LOCATION:Online\, Australia
CATEGORIES:Short Course
ATTACH;FMTTYPE=image/png:https://www.coremine.com.au/app/uploads/2025/03/HUMANITIX-PHMP-PCP-Incident-Mgmt.png
ORGANIZER;CN="Core Mine Pty Ltd":MAILTO:info@coremine.com.au
END:VEVENT
BEGIN:VEVENT
DTSTART;TZID=Australia/Sydney:20250430T080000
DTEND;TZID=Australia/Sydney:20250430T120000
DTSTAMP:20260422T234126
CREATED:20230904T032416Z
LAST-MODIFIED:20241218T012401Z
UID:4851-1746000000-1746014400@www.coremine.com.au
SUMMARY:MOC Course: Environmental Management (Online)
DESCRIPTION:Our Environmental Management Course is 3.5 hours of formal training. We will cover: \n– Applicable environmental legislation\n– Practical application of environmental considerations\n– Pollution Incident Management Plan\n– Environmental Incidents \nWhilst this is specifically for open cut applications\, there is substantial cross over to the underground statutory functions. \nAttendees will receive a minimum of 3.5 hours of formal training that will go towards their Maintenance of Competence for their NSW Practicing Certificate (accompanied by a certificate of completion). \nThis event will be held online via MS Teams.
URL:https://www.coremine.com.au/course/moc-course-environmental-management/
LOCATION:Online\, Australia
CATEGORIES:Short Course
ATTACH;FMTTYPE=image/jpeg:https://www.coremine.com.au/app/uploads/2023/09/Trybooking-SC08-Environmental.jpg
ORGANIZER;CN="Core Mine Pty Ltd":MAILTO:info@coremine.com.au
END:VEVENT
BEGIN:VEVENT
DTSTART;TZID=Australia/Sydney:20250326T080000
DTEND;TZID=Australia/Sydney:20250326T120000
DTSTAMP:20260422T234126
CREATED:20240102T010750Z
LAST-MODIFIED:20241218T014934Z
UID:5002-1742976000-1742990400@www.coremine.com.au
SUMMARY:MOC Course: Risk Management & Inspection Systems (Online)
DESCRIPTION:Our Risk Management & Inspection Systems course is 3.5 hours of formal training. We will cover: \n– Fundamental risk management processes including WRAC & Bow tie methodology\n– Legislative requirements associated with risk management\n– Practical considerations for inspecting an open cut mining environment\n– Legislative requirements for the conduct of mining workplace inspections \nWhilst this is specifically for open cut applications\, there is substantial cross over to the underground statutory functions. \nAttendees will receive a minimum of 3.5hours of formal training that will go towards their Maintenance of Competence for their NSW Practicing Certificate (accompanied by a certificate of completion). \nThis event will be held online via MS Teams.
URL:https://www.coremine.com.au/course/moc-course-risk-management-inspection-systems-online-only/
LOCATION:Online\, Australia
CATEGORIES:Short Course
ATTACH;FMTTYPE=image/jpeg:https://www.coremine.com.au/app/uploads/2023/01/Trybooking-SC02-Risk-Mgt-Inspections.jpg
ORGANIZER;CN="Core Mine Pty Ltd":MAILTO:info@coremine.com.au
END:VEVENT
BEGIN:VEVENT
DTSTART;TZID=Australia/Sydney:20250312T080000
DTEND;TZID=Australia/Sydney:20250312T120000
DTSTAMP:20260422T234126
CREATED:20230904T025331Z
LAST-MODIFIED:20241218T015230Z
UID:4839-1741766400-1741780800@www.coremine.com.au
SUMMARY:MOC Course: Shotfiring (Online)
DESCRIPTION:Our Shotfiring course is 3.5 hours of formal training. We will cover: \n– Fundamental blasting methods in mining\n– Key terminology\n– Practical considerations for shotfiring operations\n– Legislative requirements for the conduct of shotfiring in mining \nWhilst this is specifically for open cut applications\, there is substantial cross over to the underground statutory functions. \nAttendees will receive a minimum of 3.5hours of formal training that will go towards their Maintenance of Competence for their NSW Practicing Certificate (accompanied by a certificate of completion). \nThis event will be held online via MS Teams.
URL:https://www.coremine.com.au/course/moc-course-shotfiring-3/
LOCATION:Online\, Australia
CATEGORIES:Short Course
ATTACH;FMTTYPE=image/jpeg:https://www.coremine.com.au/app/uploads/2023/01/Trybooking-SC04-Shotfiring.jpg
ORGANIZER;CN="Core Mine Pty Ltd":MAILTO:info@coremine.com.au
END:VEVENT
BEGIN:VEVENT
DTSTART;TZID=Australia/Sydney:20250219T080000
DTEND;TZID=Australia/Sydney:20250219T120000
DTSTAMP:20260422T234126
CREATED:20240102T001209Z
LAST-MODIFIED:20241218T013910Z
UID:4997-1739952000-1739966400@www.coremine.com.au
SUMMARY:MOC Course: PHMP\, PCP & Incident Management (Online)
DESCRIPTION:Our PHMP\, PCP & Incident Management course is 3.5 hours of formal training. We will cover: \n– Principal hazards that apply to mining\n– Requirements in preparation of PHMPs\n– Principal controls\n– Practical applications of PHMP & PCP Reviews \nAttendees will receive a minimum of 3.5hours of formal training that will go towards their Maintenance of Competence for their NSW Practicing Certificate (accompanied by a certificate of completion). \nThis event will be held online via MS Teams.
URL:https://www.coremine.com.au/course/moc-course-phmp-pcp-incident-management-online/
LOCATION:Online\, Australia
CATEGORIES:Short Course
ATTACH;FMTTYPE=image/png:https://www.coremine.com.au/app/uploads/2024/01/PHM-PCP.png
ORGANIZER;CN="Core Mine Pty Ltd":MAILTO:info@coremine.com.au
END:VEVENT
BEGIN:VEVENT
DTSTART;TZID=Australia/Sydney:20240206T080000
DTEND;TZID=Australia/Sydney:20241206T170000
DTSTAMP:20260422T234126
CREATED:20240205T234923Z
LAST-MODIFIED:20240205T235049Z
UID:5046-1707206400-1733504400@www.coremine.com.au
SUMMARY:WEBINAR RECORDING: Maintaining your Practicing Certificate
DESCRIPTION:During 2023\, Core Mine were engaged to conduct MOC audits on practicing certificate holders. \nIn this seminar\, we share:\n– Learnings from audits\n– Things that were done well\n– Common pitfalls\n– Lapsed certificates: how to reapply \nViewing this webinar will count towards PCH MOC hours as Formal Learning > Legislation
URL:https://www.coremine.com.au/course/webinar-recording-maintaining-your-practicing-certificate/
LOCATION:Online\, Australia
CATEGORIES:Short Course
ATTACH;FMTTYPE=image/png:https://www.coremine.com.au/app/uploads/2023/11/Free-Webinar.png
END:VEVENT
BEGIN:VEVENT
DTSTART;TZID=Australia/Sydney:20231214T100000
DTEND;TZID=Australia/Sydney:20231214T110000
DTSTAMP:20260422T234126
CREATED:20231109T025457Z
LAST-MODIFIED:20231116T092116Z
UID:4946-1702548000-1702551600@www.coremine.com.au
SUMMARY:Free Webinar: Maintaining Your Practicing Certificate
DESCRIPTION:During 2023\, Core Mine have been engaged to conduct MOC audits on practicing certificate holders. \nIn this seminar\, we will share: \n–	Learnings from audits\n–	Things that were done well\n–	Common pitfalls\n–	Lapsed certificates: how to reapply \nThere will be opportunity for a Q&A at the end. For any questions you may have\, please send these to info@coremine.com.au and we will anonymously address these in the webinar. \nThis webinar will count towards PCH MOC hours as Formal Learning under Legislation.
URL:https://www.coremine.com.au/course/free-webinar-maintaining-your-practicing-certificate/
LOCATION:Online\, Australia
CATEGORIES:Short Course
ATTACH;FMTTYPE=image/png:https://www.coremine.com.au/app/uploads/2023/11/Free-Webinar.png
ORGANIZER;CN="Core Mine Pty Ltd":MAILTO:info@coremine.com.au
END:VEVENT
BEGIN:VEVENT
DTSTART;TZID=Australia/Sydney:20230517T080000
DTEND;TZID=Australia/Sydney:20230517T120000
DTSTAMP:20260422T234126
CREATED:20230404T193043Z
LAST-MODIFIED:20230508T202715Z
UID:4641-1684310400-1684324800@www.coremine.com.au
SUMMARY:MOC COURSE: SPON COM\, REACTIVE GROUND\, UG WORKINGS (ONLINE)
DESCRIPTION:Our Spon com\, reactive ground and UG Workings course is 3.5 hours of formal training. We will cover:\n– Hazards and controls across those 3 hazards\n– Legislative requirements associated with risk management\n– Practical considerations for these hazards on an open cut mining environment\n– Mitigation efforts to reduce the impacts of these hazardsAttendees will receive a minimum of 3.5hours of formal training that will go towards their Maintenance of Competence for their NSW Practicing Certificate (accompanied by a certificate of completion).This event will be held online only. \n\nWednesday 17 May 2023 (UTC+10)\nChoose from 2 sessions:\n\n8am – 12pm or\n1pm – 5pm\n\nBOOK NOW
URL:https://www.coremine.com.au/course/moc-course-spon-com-reactive-ground-ug-workings-online/
LOCATION:Online\, Australia
CATEGORIES:Short Course
ATTACH;FMTTYPE=image/jpeg:https://www.coremine.com.au/app/uploads/2023/04/Trybooking-SC03-Spon-com.jpg
END:VEVENT
BEGIN:VEVENT
DTSTART;TZID=Australia/Sydney:20230427T080000
DTEND;TZID=Australia/Sydney:20230427T123000
DTSTAMP:20260422T234126
CREATED:20230404T191647Z
LAST-MODIFIED:20230404T192228Z
UID:4637-1682582400-1682598600@www.coremine.com.au
SUMMARY:MOC COURSE: RISK MANAGEMENT & INSPECTIONS (ONLINE ONLY)
DESCRIPTION:Our Risk Management & Inspection Systems course is 3.5 hours of formal training. We will cover:\n– Fundamental risk management processes including WRAC & Bow tie methodology\n– Legislative requirements associated with risk management\n– Practical considerations for inspecting an open cut mining environment\n– Legislative requirements for the conduct of mining workplace inspectionsWhilst this is specifically for open cut applications\, there is substantial cross over to the underground statutory functions.Attendees will receive a minimum of 3.5hours of formal training that will go towards their Maintenance of Competence for their NSW Practicing Certificate (accompanied by a certificate of completion). \nThis event will be held online only. \n\nWednesday 27 April 2023 – 8AM – 12:30PM\n\nBOOK NOW
URL:https://www.coremine.com.au/course/moc-course-risk-management-inspections-online-only-2/
LOCATION:Online\, Australia
CATEGORIES:Short Course
ATTACH;FMTTYPE=image/jpeg:https://www.coremine.com.au/app/uploads/2023/01/Trybooking-SC02-Risk-Mgt-Inspections.jpg
END:VEVENT
BEGIN:VEVENT
DTSTART;TZID=Australia/Sydney:20230426T080000
DTEND;TZID=Australia/Sydney:20230426T123000
DTSTAMP:20260422T234126
CREATED:20230404T191531Z
LAST-MODIFIED:20230404T191531Z
UID:4635-1682496000-1682512200@www.coremine.com.au
SUMMARY:MOC COURSE: RISK MANAGEMENT & INSPECTIONS (ONLINE ONLY)
DESCRIPTION:Our Risk Management & Inspection Systems course is 3.5 hours of formal training. We will cover:\n– Fundamental risk management processes including WRAC & Bow tie methodology\n– Legislative requirements associated with risk management\n– Practical considerations for inspecting an open cut mining environment\n– Legislative requirements for the conduct of mining workplace inspections \nWhilst this is specifically for open cut applications\, there is substantial cross over to the underground statutory functions. \nAttendees will receive a minimum of 3.5hours of formal training that will go towards their Maintenance of Competence for their NSW Practicing Certificate (accompanied by a certificate of completion). \nThis event will be held online only. \nWednesday 26 April 2023 – 8AM – 12:30PM\n\nBOOK NOW
URL:https://www.coremine.com.au/course/moc-course-risk-management-inspections-online-only/
LOCATION:Online\, Australia
CATEGORIES:Short Course
ATTACH;FMTTYPE=image/jpeg:https://www.coremine.com.au/app/uploads/2023/01/Trybooking-SC02-Risk-Mgt-Inspections.jpg
END:VEVENT
BEGIN:VEVENT
DTSTART;TZID=Australia/Sydney:20230413T080000
DTEND;TZID=Australia/Sydney:20230413T170000
DTSTAMP:20260422T234126
CREATED:20230404T185616Z
LAST-MODIFIED:20230404T191754Z
UID:4629-1681372800-1681405200@www.coremine.com.au
SUMMARY:MOC COURSE: GROUND & STRATA / TYRE & RIM (ONLINE ONLY)
DESCRIPTION:Our Ground & Strata / Tyre & Rim course is 4 hours of formal training. We will cover:\n– Fundamental concepts of geotechnical design\n– Key terminology\n– Practical considerations for geotechnical & geological considerations\n– Legislative requirements for the conduct of geotechnical hazards in mining\n– Key hazards & controls associated with tyre & rim management\n– Principles of tyre types\n– Case study on tyre incidentsAttendees will receive a minimum of 4hours of formal training that will go towards their Maintenance of Competence for their NSW Practicing Certificate (accompanied by a certificate of completion).This event will be held online only. \n\nThursday 13 April 2023 (UTC+10)\nChoose from one of the 2 sessions:\n 1. 8am – 12pm or\n 2. 1pm – 5pm.\n\nBOOK NOW
URL:https://www.coremine.com.au/course/moc-course-ground-strata-tyre-rim-online-only/
LOCATION:Online\, Australia
CATEGORIES:Short Course
ATTACH;FMTTYPE=image/jpeg:https://www.coremine.com.au/app/uploads/2023/04/Trybooking-SC11-Ground-Strata-Tyre-Rims.jpg
END:VEVENT
BEGIN:VEVENT
DTSTART;TZID=Australia/Sydney:20230308T130000
DTEND;TZID=Australia/Sydney:20230308T140000
DTSTAMP:20260422T234126
CREATED:20230215T030835Z
LAST-MODIFIED:20230215T033155Z
UID:4504-1678280400-1678284000@www.coremine.com.au
SUMMARY:MOC Update Free Webinar
DESCRIPTION:Join us for a free webinar based on the MOC Scheme for Practising Certificate holders (PCH) in NSW. We explain the MOC scheme in detail and answer commonly asked questions related to the scheme\, including how to renew your practising certificate.\nThis webinar is best suited for practising certificate holders as well as those managing teams of PCH. \nREGISTER NOW
URL:https://www.coremine.com.au/course/moc-update-free-webinar/
LOCATION:Online\, Australia
CATEGORIES:Short Course
ATTACH;FMTTYPE=image/jpeg:https://www.coremine.com.au/app/uploads/2023/02/Trybooking-MOC-Webinar.jpg
END:VEVENT
BEGIN:VEVENT
DTSTART;TZID=Australia/Sydney:20211112T083000
DTEND;TZID=Australia/Sydney:20211112T113000
DTSTAMP:20260422T234126
CREATED:20210913T224442Z
LAST-MODIFIED:20210914T012902Z
UID:1922-1636705800-1636716600@www.coremine.com.au
SUMMARY:MOC Course: Legislation Overview
DESCRIPTION:Our Legislation Overview course is 3 hours of formal training on NSW mining legislation. We will cover key parts of the WHS Act/Regs\, and WHS (Mines & Petroleum Sites) Act/Regs.\nWe focus particularly on parts of the legislation that is commonly confused or misunderstood\, as well as the legislation that underpins our mining operations in NSW. \nWhilst this is specifically for open cut applications\, there is substantial cross over to the underground statutory functions. For Practising Certificate holders\, this counts as formal training towards your Maintenance of Competence. \nWe will cover: \n\nLegislative framework in NSW\, including structure\nSafety Management System including PHMP & PCP\nDuties and consultation\nWorker representation and powers\nRegulator enforcement measures\nIncidents\nEmergency Management\n\nThis event will be held online via Microsoft Teams. A link will be emailed after registration \n  \nBOOK NOW
URL:https://www.coremine.com.au/course/moc-course-legislation-overview-3/
LOCATION:Online\, Australia
CATEGORIES:Short Course
ATTACH;FMTTYPE=image/jpeg:https://www.coremine.com.au/app/uploads/2021/09/Trybooking-SC17-Legislation-1.jpg
END:VEVENT
BEGIN:VEVENT
DTSTART;TZID=Australia/Sydney:20211102T130000
DTEND;TZID=Australia/Sydney:20211102T160000
DTSTAMP:20260422T234126
CREATED:20210913T223717Z
LAST-MODIFIED:20210913T223854Z
UID:1917-1635858000-1635868800@www.coremine.com.au
SUMMARY:MOC Course: Legislation Overview
DESCRIPTION:Our Legislation Overview course is 3 hours of formal training on NSW mining legislation. We will cover key parts of the WHS Act/Regs\, and WHS (Mines & Petroleum Sites) Act/Regs.\nWe focus particularly on parts of the legislation that is commonly confused or misunderstood\, as well as the legislation that underpins our mining operations in NSW. \nWhilst this is specifically for open cut applications\, there is substantial cross over to the underground statutory functions. For Practising Certificate holders\, this counts as formal training towards your Maintenance of Competence. \nWe will cover: \n\nLegislative framework in NSW\, including structure\nSafety Management System including PHMP & PCP\nDuties and consultation\nWorker representation and powers\nRegulator enforcement measures\nIncidents\nEmergency Management\n\nThis event will be held online via Microsoft Teams. A link will be emailed after registration \nBOOK NOW
URL:https://www.coremine.com.au/course/moc-course-legislation-overview-2/
LOCATION:Online\, Australia
CATEGORIES:Short Course
ATTACH;FMTTYPE=image/jpeg:https://www.coremine.com.au/app/uploads/2021/09/Trybooking-SC17-Legislation-1.jpg
END:VEVENT
BEGIN:VEVENT
DTSTART;TZID=Australia/Sydney:20210909T080000
DTEND;TZID=Australia/Sydney:20210909T110000
DTSTAMP:20260422T234126
CREATED:20210818T100239Z
LAST-MODIFIED:20210913T213301Z
UID:1690-1631174400-1631185200@www.coremine.com.au
SUMMARY:MOC Course: Legislation Overview
DESCRIPTION:Our Legislation Overview course is 3 hours of formal training on NSW mining legislation. We will cover key parts of the WHS Act/Regs\, and WHS (Mines & Petroleum Sites) Act/Regs.\nWe focus particularly on parts of the legislation that is commonly confused or misunderstood\, as well as the legislation that underpins our mining operations in NSW. \nWhilst this is specifically for open cut applications\, there is substantial cross over to the underground statutory functions. \nDue to COVID19 restrictions in NSW\, this course will be conducted online via Microsoft Teams (a link will be sent out after registration). \nBOOK NOW
URL:https://www.coremine.com.au/course/moc-course-legislation-overview/
LOCATION:Online\, Australia
CATEGORIES:Short Course
ATTACH;FMTTYPE=image/jpeg:https://www.coremine.com.au/app/uploads/2021/08/Trybooking-SC17-Legislation-1.jpg
END:VEVENT
END:VCALENDAR